BEGIN:VCALENDAR
VERSION:2.0
PRODID:-//JEuDIS et SAm'DIS DIEU//NONSGML kigkonsult.se iCalcreator 2.41.92//
CALSCALE:GREGORIAN
METHOD:PUBLISH
UID:65333139-3631-4264-b962-373537656237
X-WR-CALNAME:iCagenda
X-WR-CALDESC:Event Management Extension for Joomla!
X-WR-RELCALID:3E26604A-50F4-4449-8B3E-E4F4932D05B5
X-WR-TIMEZONE:UTC
BEGIN:VTIMEZONE
TZID:UTC
END:VTIMEZONE
BEGIN:VEVENT
UID:39623630-6134-4266-a238-303339663135
DTSTAMP:20260424T082108Z
CATEGORIES:SAm'DIS DIEU
CLASS:PUBLIC
DESCRIPTION;ALTREP="CID:<FFFF__=0ABBE548DFE235B58f9e8a93d@coffeebean.com>":
 Ces rencontres sont d'abord un moment convivial avec des activités sportiv
 es ou culturelles propices aux partages et discussions ainsi que des temps
  d’enseignement pour permettre de grandir dans la foi. Au programme : part
 ages autour de la Bible sur des thèmes actuels\, chants\, activités sporti
 ves\, jeux\, repas. Horaires habituels de 9h15 à 16h15.\nDates des rencont
 res : 25 octobre 2025 - 24 janvier - 7 mars - 9 mai 2026. Pour les détails
  des activités\, voir la circulaire.\nParticipation à trois célébrations :
 \n\nCulte tous âges du 31 août 2025&nbsp\;à 10h00 à Cressier\nNoël pour to
 us le 24 décembre 2025&nbsp\;à 17h30 à Cressier\nCulte tous âges du 10 mai
  2026&nbsp\;à 10h00 à Cressier\n\nAttention\, dès la première rencontre de
  l'année scolaire\, il n'est plus possible de s'inscrire via le formulaire
  en ligne. Pour nous rejoindre en cours d'année\, vous pouvez adresser vot
 re demande via le formulaire de contact !
DTSTART:20251024T091500Z
DTEND:20260509T161500Z
GEO:+47.049717;+7.033584
LOCATION:Centre paroissial
ORGANIZER;CN=:mailto:contact@jeusamdisdieu.ch
SEQUENCE:1
SUMMARY:SAm'DIS DIEU
TRANSP:OPAQUE
URL:https://www.jeusamdisdieu.ch/index.php/inscription/2-samdis-dieu
END:VEVENT
END:VCALENDAR
