BEGIN:VCALENDAR
VERSION:2.0
PRODID:-//JEuDIS et SAm'DIS DIEU//NONSGML kigkonsult.se iCalcreator 2.41.92//
CALSCALE:GREGORIAN
METHOD:PUBLISH
UID:30326538-3064-4733-b132-353935626666
X-WR-CALNAME:iCagenda
X-WR-CALDESC:Event Management Extension for Joomla!
X-WR-RELCALID:3E26604A-50F4-4449-8B3E-E4F4932D05B5
X-WR-TIMEZONE:UTC
BEGIN:VTIMEZONE
TZID:UTC
END:VTIMEZONE
BEGIN:VEVENT
UID:66636234-3030-4637-a462-626433313936
DTSTAMP:20260424T082147Z
CATEGORIES:JEuDIS DIEU
CLASS:PUBLIC
DESCRIPTION;ALTREP="CID:<FFFF__=0ABBE548DFE235B58f9e8a93d@coffeebean.com>":
 En deux modules d'environ 10 rencontres chacun\, l'un en automne du 23 oct
 obre au 18 décembre 2025&nbsp\;et l'autre au printemps du 5&nbsp\;mars au 
 7 mai 2026\, les jeudis de 17h15 à 18h15.\nLes rencontres n'ont pas lieu d
 urant les jours fériés et vacances scolaires.&nbsp\;\n3 cultes tous âges f
 ont également partie du progamme dans la mesure du possible : 31 août 2025
  \; 24 décembre 2025 et 10 mai 2026.\nAttention\, dès la première rencontr
 e de l'année scolaire\, il n'est plus possible de s'inscrire via le formul
 aire en ligne. Pour nous rejoindre en cours d'année\, vous pouvez adresser
  votre demande via le formulaire de contact !
DTSTART:20251023T171500Z
DTEND:20260507T181500Z
GEO:+47.049717;+7.033584
LOCATION:Centre paroissial
ORGANIZER;CN=:mailto:contact@jeusamdisdieu.ch
SEQUENCE:1
SUMMARY:JEuDIS DIEU
TRANSP:OPAQUE
URL:https://www.jeusamdisdieu.ch/index.php/inscription/1-jeudis-dieu
END:VEVENT
END:VCALENDAR
